BEGIN:VCALENDAR
VERSION:2.0
PRODID:-//CSR India - ECPv6.7.0//NONSGML v1.0//EN
CALSCALE:GREGORIAN
METHOD:PUBLISH
X-ORIGINAL-URL:https://www.csrindia.org
X-WR-CALDESC:Events for CSR India
REFRESH-INTERVAL;VALUE=DURATION:PT1H
X-Robots-Tag:noindex
X-PUBLISHED-TTL:PT1H
BEGIN:VTIMEZONE
TZID:UTC
BEGIN:STANDARD
TZOFFSETFROM:+0000
TZOFFSETTO:+0000
TZNAME:UTC
DTSTART:20230101T000000
END:STANDARD
TZID:Asia/Kolkata
BEGIN:STANDARD
TZOFFSETFROM:+0530
TZOFFSETTO:+0530
TZNAME:IST
DTSTART:20230101T000000
END:STANDARD
END:VTIMEZONE
BEGIN:VEVENT
DTSTART;VALUE=DATE:20230207
DTEND;VALUE=DATE:20230208
DTSTAMP:20260425T132341
CREATED:20230206T174536Z
LAST-MODIFIED:20230206T174536Z
UID:15298-1675728000-1675814399@www.csrindia.org
SUMMARY:Safer Internet Day 2023
DESCRIPTION:“Cyber safety and security” on 7th February in the context of “International Safer internet day” at S.A. Jain Senior Model School \, Ambala City Haryana.
URL:https://www.csrindia.org/event/safer-internet-day-2023-2/
END:VEVENT
BEGIN:VEVENT
DTSTART;TZID=UTC:20230207T143000
DTEND;TZID=UTC:20230207T170000
DTSTAMP:20260425T132341
CREATED:20230206T174145Z
LAST-MODIFIED:20230206T174145Z
UID:15295-1675780200-1675789200@www.csrindia.org
SUMMARY:Safer Internet Day 2023
DESCRIPTION:Women’s Online Safety and Wellbeing\n7th Feb\, 2:30 pm\, Centre for Excellence\nCSR Gurugram
URL:https://www.csrindia.org/event/safer-internet-day-2023/
END:VEVENT
BEGIN:VEVENT
DTSTART;VALUE=DATE:20230725
DTEND;VALUE=DATE:20230726
DTSTAMP:20260425T132341
CREATED:20230616T211154Z
LAST-MODIFIED:20230616T211207Z
UID:17119-1690243200-1690329599@www.csrindia.org
SUMMARY:Save The Date
DESCRIPTION:For the past forty years\, the Centre for Social Research has been dedicated to creating opportunities for women’s growth and fostering positive change. Together\, we have achieved remarkable milestones\, shattered barriers\, and empowered countless lives. \nJoin us as we gather to celebrate our collective achievements and set the stage for the future. It will be a day filled with powerful stories\, heartfelt connections\, and a shared commitment to continue empowering women for the next four decades and beyond. \nMark your calendars and keep an eye out for updates. We can’t wait to have you be a part of this momentous celebration and share in the joy and excitement.
URL:https://www.csrindia.org/event/save-the-date/
END:VEVENT
END:VCALENDAR